BEGIN:VCALENDAR
VERSION:2.0
PRODID:-//wp-events-plugin.com//7.2.3.1//EN
TZID:Europe/Vienna
X-WR-TIMEZONE:Europe/Vienna
BEGIN:VEVENT
UID:21@fcb-fanclub-natternbach.at
DTSTART;TZID=Europe/Vienna;VALUE=DATE:20251122
DTEND;TZID=Europe/Vienna;VALUE=DATE:20251123
DTSTAMP:20250905T212211Z
URL:https://www.fcb-fanclub-natternbach.at/events/fc-bayern-sc-freiburg/
SUMMARY:FC BAYERN - SC Freiburg
DESCRIPTION:Das Bundesliga Heimspiel FC BAYERN - SC Freiburg  findet am Sa
 mstag den\, 22.11.2025 um 15:30 Uhr statt.\n\nFür dieses Spiel stehen aus
 schließlich Karten zur Privatfahrt  zur Verfügung.\n\nDie Karten werd
 en ca. 3 Tage vor Spiel per E-Mail zugesendet.\n\nBitte beachte unsere Reg
 eln für die Buchung einer Karte\, welche du unter Kartenregelung nachlese
 n kannst!
ATTACH;FMTTYPE=image/jpeg:https://www.fcb-fanclub-natternbach.at/wp-conten
 t/uploads/2025/07/FC-BAYERN-FC-Freiburg.png
CATEGORIES:Privatfahrt
LOCATION:Allianz Arena\, Franz-Beckenbauer-Platz 5\, München\, 80939\, Deu
 tschland
X-APPLE-STRUCTURED-LOCATION;VALUE=URI;X-ADDRESS=Franz-Beckenbauer-Platz 5\,
  München\, 80939\, Deutschland;X-APPLE-RADIUS=100;X-TITLE=Allianz Arena:g
 eo:0,0
END:VEVENT
BEGIN:VTIMEZONE
TZID:Europe/Vienna
X-LIC-LOCATION:Europe/Vienna
BEGIN:STANDARD
DTSTART:20251026T020000
TZOFFSETFROM:+0200
TZOFFSETTO:+0100
TZNAME:CET
END:STANDARD
END:VTIMEZONE
END:VCALENDAR